BEGIN:VCALENDAR
VERSION:2.0
PRODID:-//ChamberMaster//Event Calendar 2.0//EN
METHOD:PUBLISH
X-PUBLISHED-TTL:P3D
REFRESH-INTERVAL:P3D
CALSCALE:GREGORIAN
BEGIN:VEVENT
DTSTART:20250116T173000Z
DTEND:20250116T190000Z
X-MICROSOFT-CDO-ALLDAYEVENT:FALSE
SUMMARY:PBYP January Blue Plate
DESCRIPTION:Join the Pine Belt Young Professionals for their January Blue Plate Thursday\, January 16th from 11:30 a.m. - 1:00 p.m. at the Train Depot. They are excited to have Dr. Lindsey Lewis with iNGAGE Talent Development speak on\, Crucial Influence: How to Manage Change.
X-ALT-DESC;FMTTYPE=text/html:Join the Pine Belt Young Professionals for their January Blue Plate Thursday\, January 16th from 11:30 a.m. - 1:00 p.m. at the Train Depot. They are excited to have Dr. Lindsey Lewis with iNGAGE Talent Development speak on\, Crucial Influence: How to Manage Change.&nbsp\;
LOCATION:Train Depot 308 Newman Street
UID:e.475.11329
SEQUENCE:3
DTSTAMP:20260424T052039Z
URL:https://members.theadp.com/events/details/pbyp-january-blue-plate-11329
END:VEVENT

END:VCALENDAR
