BEGIN:VCALENDAR
VERSION:2.0
PRODID:-//ChamberMaster//Event Calendar 2.0//EN
METHOD:PUBLISH
X-PUBLISHED-TTL:P3D
REFRESH-INTERVAL:P3D
CALSCALE:GREGORIAN
BEGIN:VEVENT
DTSTART:20360513T163000Z
DTEND:20360513T180000Z
X-MICROSOFT-CDO-ALLDAYEVENT:FALSE
SUMMARY:Sales and Marketing Professionals Membership Meeting
DESCRIPTION:This is the monthly membership meeting for sales and marketing professionals\, a place to connect\, grow\, and network.
X-ALT-DESC;FMTTYPE=text/html:This is the monthly membership meeting for sales and marketing professionals\, a place to connect\, grow\, and network.&nbsp\;
LOCATION:Hilton Garden Inn Hattiesburg 133 Plaza DR Hattiesburg\, MS 39402
UID:e.475.11732
SEQUENCE:3
DTSTAMP:20260424T155437Z
URL:https://members.theadp.com/events/details/sales-and-marketing-professionals-membership-meeting-05-13-2036-11732
END:VEVENT

END:VCALENDAR
